BEGIN:VCALENDAR
VERSION:2.0
PRODID:icalendar-ruby
CALSCALE:GREGORIAN
METHOD:PUBLISH
BEGIN:VEVENT
DTSTAMP:20260425T040102Z
UID:33-893037@goodwinsmillschurch.org
DTSTART:20261018T210000Z
DTEND:20261018T220000Z
CLASS:PUBLIC
CREATED:20260424T221234
DESCRIPTION:Please arrive at the church Sunday Morning at 9:00 am to run th
 rough the music. Please arrive promptly.
LAST-MODIFIED:20260424T221234
LOCATION:Church Sanctuary
SUMMARY:Choir Practice every Sunday at 4:30pm
URL;VALUE=URI:https://goodwinsmillschurch.org/events/choir-practice-every-s
 unday-at-4-30pm/2026-10-18
END:VEVENT
END:VCALENDAR
