BEGIN:VCALENDAR
VERSION:2.0
PRODID:icalendar-ruby
CALSCALE:GREGORIAN
METHOD:PUBLISH
BEGIN:VEVENT
DTSTAMP:20260420T141331Z
UID:12-869964@goodwinsmillschurch.org
DTSTART:20261016T220000Z
DTEND:20261017T000000Z
CLASS:PUBLIC
CREATED:20260420T075221
DESCRIPTION:Come and join us to have some fun and learn about our faith in 
 Jesus!
LAST-MODIFIED:20260420T075221
LOCATION:Church lower level
SUMMARY:Junior Youth Group
URL;VALUE=URI:https://goodwinsmillschurch.org/events/junior-youth-group--12
 /2026-10-16
ATTACH;FILENAME=20220629_191339.jpg;FMTTYPE=image/jpeg:https://dq5pwpg1q8ru
 0.cloudfront.net/2024/03/19/19/41/57/b0c6ecac-77db-4439-b667-393e160af922/
 20220629_191339.jpg
END:VEVENT
END:VCALENDAR
